BEGIN:VCALENDAR
VERSION:2.0
PRODID:-//Rihlat Travel News - ECPv6.15.20//NONSGML v1.0//EN
CALSCALE:GREGORIAN
METHOD:PUBLISH
X-ORIGINAL-URL:https://rihlattravelnews.com
X-WR-CALDESC:Events for Rihlat Travel News
REFRESH-INTERVAL;VALUE=DURATION:PT1H
X-Robots-Tag:noindex
X-PUBLISHED-TTL:PT1H
BEGIN:VTIMEZONE
TZID:Asia/Dubai
BEGIN:STANDARD
TZOFFSETFROM:+0400
TZOFFSETTO:+0400
TZNAME:+04
DTSTART:20230101T000000
END:STANDARD
END:VTIMEZONE
BEGIN:VEVENT
DTSTART;TZID=Asia/Dubai:20241205T000000
DTEND;TZID=Asia/Dubai:20241214T235959
DTSTAMP:20260419T213104
CREATED:20241126T123203Z
LAST-MODIFIED:20241126T123232Z
UID:10000145-1733356800-1734220799@rihlattravelnews.com
SUMMARY:Red Sea International Film Festival 2024
DESCRIPTION:Launched in 2019\, the Red Sea International Film Festival is an international Saudi platform that celebrates excellence in film\, opening its doors to the world. The annual event embraces the vibrant creative energy of Jeddah\, the Kingdom\, and the Arab region as a whole\, presenting programs for film lovers\, filmmakers\, and the industry at large. \n\n\n\nEach year\, the Festival adopts a dedicated theme\, all geared towards the art of film and culture\, making it a new destination for Arab and international cinema with lively\, diverse programs designed around the audiences. There is something for everyone; from local creatives\, cinephiles\, and families\, to international industry professionals curious about the inside track on this new market. \n\n\n\nThe fourth edition is embracing the theme “The New Home of Film\,” signifying the festival’s return to Historic Jeddah ‘Al-Balad.’
URL:https://rihlattravelnews.com/event/red-sea-international-film-festival-2024/
CATEGORIES:Cultural
ATTACH;FMTTYPE=image/jpeg:https://rihlattravelnews.com/wp-content/uploads/2024/11/Red-Sea-Film-Festival.jpg
END:VEVENT
BEGIN:VEVENT
DTSTART;TZID=Asia/Dubai:20241210T000000
DTEND;TZID=Asia/Dubai:20241212T235959
DTSTAMP:20260419T213104
CREATED:20241119T113114Z
LAST-MODIFIED:20241119T113116Z
UID:10000135-1733788800-1734047999@rihlattravelnews.com
SUMMARY:Heritage  Middle East
DESCRIPTION:The Heart of the World Culture Beats at Abu Dhabi once again with the “2nd Heritage Middle East International Exhibition & Conference for Museum and Librarianship Technologies\, Restoration\, Archaeology and Cultural Tourism”  \n\n\n\nAiming to become the capital of the world culture\, Abu Dhabi is getting the most important global players of the museum industry ready. “The 2nd Heritage Middle East Museum and Exhibition Technologies Fair and Conference” will be held between 10-12 December 2024 at Abu Dhabi National Exhibition Center (ADNEC). The Heritage Middle East Museum and Exhibition Technologies Fair & Conference\, an exclusive event dedicated to museology\, arts and culture\, leading global museums\, museum curators\, engineers\, art historians\, conservators and art and culture professionals will come together in the fariground\, side events and organizations.
URL:https://rihlattravelnews.com/event/heritage-middle-east/
LOCATION:Abu Dhabi National Exhibition Center (ADNEC)
CATEGORIES:Cultural,Exhibition, Trade Shows & Roadshows
ATTACH;FMTTYPE=image/png:https://rihlattravelnews.com/wp-content/uploads/2024/11/Heritage-Middle-east.png
END:VEVENT
BEGIN:VEVENT
DTSTART;TZID=Asia/Dubai:20241213T000000
DTEND;TZID=Asia/Dubai:20250104T235959
DTSTAMP:20260419T213104
CREATED:20241127T093957Z
LAST-MODIFIED:20251222T103555Z
UID:10000146-1734048000-1736035199@rihlattravelnews.com
SUMMARY:Liwa 2025
DESCRIPTION:Enjoy seasonal celebrations surrounding the epic Tal Moreeb – one of the world’s tallest sand dunes\, rising to 300 metres. At the heart of the festivities\, expect hundreds of 4x4s\, RVs\, dune buggies and other vehicles to amass at the iconic site\, as part of the winter experience. \n\n\n\nLiwa International Festival 2025 will be the biggest one yet\, along with the return of Liwa Village with a line-up of adventure\, culture and entertainment. Expect full-throttle excitement including Monster Jam and car stunt championships\, as well as enriching moments such as hot air balloons\, music concerts\, camel racing and a giant ferries wheel.
URL:https://rihlattravelnews.com/event/liwa-2025/
CATEGORIES:Cultural,Sports
ATTACH;FMTTYPE=image/jpeg:https://rihlattravelnews.com/wp-content/uploads/2024/11/LiwaFestival-ezgif.com-webp-to-jpg-converter.jpg
END:VEVENT
BEGIN:VEVENT
DTSTART;TZID=Asia/Dubai:20241216T000000
DTEND;TZID=Asia/Dubai:20241216T235959
DTSTAMP:20260419T213104
CREATED:20240821T084618Z
LAST-MODIFIED:20240823T095950Z
UID:10000043-1734307200-1734393599@rihlattravelnews.com
SUMMARY:Bahrain National Day
DESCRIPTION:Bahrain National Day\, celebrated on December 16th\, marks the country’s independence in 1971. The day is celebrated with parades\, fireworks\, and cultural events.
URL:https://rihlattravelnews.com/event/bahrain-national-day/
CATEGORIES:Cultural
ATTACH;FMTTYPE=image/jpeg:https://rihlattravelnews.com/wp-content/uploads/2024/08/Bahrain-flag-Image-courtesy-of-Unsplash-.jpg
END:VEVENT
BEGIN:VEVENT
DTSTART;TZID=Asia/Dubai:20241225T000000
DTEND;TZID=Asia/Dubai:20241225T235959
DTSTAMP:20260419T213104
CREATED:20240821T091320Z
LAST-MODIFIED:20240821T091322Z
UID:10000044-1735084800-1735171199@rihlattravelnews.com
SUMMARY:Christmas Day 
DESCRIPTION:It’s a global celebration marked by religious services\, gift-giving\, festive meals\, and various cultural traditions\, bringing together families and communities.
URL:https://rihlattravelnews.com/event/christmas-day/
CATEGORIES:Cultural
ATTACH;FMTTYPE=image/jpeg:https://rihlattravelnews.com/wp-content/uploads/2024/08/jeshoots-com-7VOyZ0-iO0o-unsplash-1-scaled.jpg
END:VEVENT
END:VCALENDAR