BEGIN:VCALENDAR
VERSION:2.0
PRODID:-//Rihlat Travel News - ECPv6.15.20//NONSGML v1.0//EN
CALSCALE:GREGORIAN
METHOD:PUBLISH
X-ORIGINAL-URL:https://rihlattravelnews.com
X-WR-CALDESC:Events for Rihlat Travel News
REFRESH-INTERVAL;VALUE=DURATION:PT1H
X-Robots-Tag:noindex
X-PUBLISHED-TTL:PT1H
BEGIN:VTIMEZONE
TZID:Asia/Dubai
BEGIN:STANDARD
TZOFFSETFROM:+0400
TZOFFSETTO:+0400
TZNAME:+04
DTSTART:20240101T000000
END:STANDARD
END:VTIMEZONE
BEGIN:VEVENT
DTSTART;TZID=Asia/Dubai:20250414T080000
DTEND;TZID=Asia/Dubai:20250416T180000
DTSTAMP:20260425T200227
CREATED:20240712T090318Z
LAST-MODIFIED:20240822T083232Z
UID:10000025-1744617600-1744826400@rihlattravelnews.com
SUMMARY:Future Hospitality Summit\, Saudi Arabia
DESCRIPTION:The Future Hospitality Summit is a premier gathering of hospitality investment visionaries and senior decision-makers who come together to discuss the most pressing issues in hotel development\, sustainability\, innovation\, and entrepreneurship.
URL:https://rihlattravelnews.com/event/future-hospitality-summit-saudi-arabia/
CATEGORIES:Conferences,Industry
ATTACH;FMTTYPE=image/jpeg:https://rihlattravelnews.com/wp-content/uploads/2024/07/Image-courtesy-of-FHS-Saudi-Arabia-.jpeg
ORGANIZER;CN="MATTHEW WEIHS%2C Managing Director%2C the bench":MAILTO:matthew.weihs@thebench.com
END:VEVENT
BEGIN:VEVENT
DTSTART;TZID=Asia/Dubai:20250425T000000
DTEND;TZID=Asia/Dubai:20250425T235959
DTSTAMP:20260425T200227
CREATED:20250331T154245Z
LAST-MODIFIED:20250331T154325Z
UID:10000159-1745539200-1745625599@rihlattravelnews.com
SUMMARY:WiT Phocuswright Middle East 2025
DESCRIPTION:Under the theme “Next Generation Meets The New Age(nts)\,” the conference will bring together speakers\, industry professionals\, and subject-matter experts from various fields to share insights and engage in discussions. \n\n\n\nThe event will focus on digital travel innovation and its impact on the Middle East\, covering topics such as technology\, distribution\, and marketing. With over 40 speakers and more than 15 in-depth sessions\, discussions will explore areas including destination marketing\, aviation\, artificial intelligence\, hospitality\, research findings\, and digital marketing trends.
URL:https://rihlattravelnews.com/event/wit-phocuswright-middle-east-2025/
CATEGORIES:Conferences,Industry
ATTACH;FMTTYPE=image/jpeg:https://rihlattravelnews.com/wp-content/uploads/2025/03/WiT.jpeg
END:VEVENT
BEGIN:VEVENT
DTSTART;TZID=Asia/Dubai:20250430T000000
DTEND;TZID=Asia/Dubai:20250502T235959
DTSTAMP:20260425T200227
CREATED:20250423T033833Z
LAST-MODIFIED:20250423T034025Z
UID:10000307-1745971200-1746230399@rihlattravelnews.com
SUMMARY:The Fujairah International Conference of Adventures Tourism
DESCRIPTION:The Fujairah International Conference of Adventures Tourism\, organised by the United Nations World Tourism Organisation\, will take place from April 30 to May 2\, 2025\, in Fujairah. The conference aims to align with economic diversification goals and growth strategies in the tourism industry\, positioning Fujairah as a leading hub in the Middle East and globally.
URL:https://rihlattravelnews.com/event/the-fujairah-international-conference-of-adventures-tourism/
CATEGORIES:Conferences,Industry
ATTACH;FMTTYPE=image/jpeg:https://rihlattravelnews.com/wp-content/uploads/2025/04/The-Fujairah-International-Conference-of-Adventure-tourism-scaled.jpg
END:VEVENT
BEGIN:VEVENT
DTSTART;TZID=Asia/Dubai:20250511T000000
DTEND;TZID=Asia/Dubai:20250511T235959
DTSTAMP:20260425T200227
CREATED:20250310T115844Z
LAST-MODIFIED:20250310T115847Z
UID:10000157-1746921600-1747007999@rihlattravelnews.com
SUMMARY:NextGen: Investment Forum
DESCRIPTION:Image courtesy of The Bench\n\n\n\nThe NextGen Investment Forum aims to inspire top leaders to come together and tackle the most pressing questions surrounding education\, training\, and talent retention in Saudi Arabia’s hospitality industry. \n\n\n\nThe afternoon will feature a dynamic series of roundtable discussions centered on key themes.
URL:https://rihlattravelnews.com/event/nextgen-investment-forum/
CATEGORIES:Conferences,Industry
ATTACH;FMTTYPE=image/jpeg:https://rihlattravelnews.com/wp-content/uploads/2025/03/NextGen-Investment-Forum-Riyadh-2025.jpg
END:VEVENT
BEGIN:VEVENT
DTSTART;TZID=Asia/Dubai:20250527T100000
DTEND;TZID=Asia/Dubai:20250529T180000
DTSTAMP:20260425T200227
CREATED:20240725T105712Z
LAST-MODIFIED:20240802T120254Z
UID:10000036-1748340000-1748541600@rihlattravelnews.com
SUMMARY:The Leisure Show Dubai
DESCRIPTION:The Leisure Show 2025 in Dubai is a premier exposition dedicated to the wellness industry. Scheduled to take place from May 27 to 29\, 2025\, at the Dubai World Trade Center\, this event will serve as a platform for industry leaders to meet\, network\, and form business partnerships.
URL:https://rihlattravelnews.com/event/the-leisure-show-dubai/
CATEGORIES:Conferences
END:VEVENT
BEGIN:VEVENT
DTSTART;TZID=Asia/Dubai:20250825T000000
DTEND;TZID=Asia/Dubai:20250825T235959
DTSTAMP:20260425T200227
CREATED:20250416T040558Z
LAST-MODIFIED:20250416T040604Z
UID:10000305-1756080000-1756166399@rihlattravelnews.com
SUMMARY:China Visitors Summit 2025
DESCRIPTION:CVS Returns to Dubai in 2025 – after the great success in the past year with 107 buyers and 263 suppliers joining from 14 countries / regions. \n\n\n\nThe core of the event is two days of face to face meetings between 150 travel suppliers and 150 travel buyers resulting in over 7\,000 appointments. \n\n\n\nThe buyers are identified based on their sales and business into the host region.  The buyer delegate is then chosen based on their responsibility for procuring and developing product – the REAL buyer.  Finally\, each buyer must pay a registration fee or approximately $/€ 500 to join the event and purchase their own air ticket to attend\, a total cost of more than $/€ 2500 per buyer.
URL:https://rihlattravelnews.com/event/china-visitors-summit-2025/
CATEGORIES:Conferences,Industry
ATTACH;FMTTYPE=image/jpeg:https://rihlattravelnews.com/wp-content/uploads/2025/04/CVS-UAE.jpeg
END:VEVENT
BEGIN:VEVENT
DTSTART;TZID=Asia/Dubai:20250917T000000
DTEND;TZID=Asia/Dubai:20250919T235959
DTSTAMP:20260425T200227
CREATED:20250813T064733Z
LAST-MODIFIED:20250813T065012Z
UID:10000327-1758067200-1758326399@rihlattravelnews.com
SUMMARY:TAAI's 68th Annual Convention and Exhibition in Abu Dhabi
DESCRIPTION:The Travel Agents Association of India (TAAI) has revealed that its 68th Annual Convention and Exhibition will be held in Abu Dhabi\, United Arab Emirates\, from September 17 to 19\, 2025. Celebrating the association’s 74th anniversary\, this year’s gathering will focus on the theme “Business with Goodness.” \n\n\n\nThe event will take place at the Grand Hyatt Abu Dhabi Emirates Pearl\, which will serve as the main convention hotel. Renowned for its strong connections within the travel industry and its commitment to fostering partnerships in the Indian tourism sector\, TAAI is planning a rich programme that will combine business sessions\, networking opportunities\, and cultural experiences.
URL:https://rihlattravelnews.com/event/68th-annual-convention-and-exhibition-by-taai/
CATEGORIES:Conferences,Industry
ATTACH;FMTTYPE=image/webp:https://rihlattravelnews.com/wp-content/uploads/2025/08/Grand-Hyatt-Abu-Dhabi.webp
END:VEVENT
BEGIN:VEVENT
DTSTART;TZID=Asia/Dubai:20250924T000000
DTEND;TZID=Asia/Dubai:20250926T235959
DTSTAMP:20260425T200227
CREATED:20241016T054332Z
LAST-MODIFIED:20241016T054336Z
UID:10000124-1758672000-1758931199@rihlattravelnews.com
SUMMARY:Routes World 2025
DESCRIPTION:Routes World 2025 will be heading to East Asia and will be hosted by Hong Kong International Airport (HKIA) at the Asia World-Expo with the support of Hong Kong Tourism Board.
URL:https://rihlattravelnews.com/event/routes-world-2025/
LOCATION:AsiaWorld Expo
CATEGORIES:Conferences
ATTACH;FMTTYPE=image/jpeg:https://rihlattravelnews.com/wp-content/uploads/2024/10/Routes-2025.jpg
END:VEVENT
BEGIN:VEVENT
DTSTART;TZID=Asia/Dubai:20251028T000000
DTEND;TZID=Asia/Dubai:20251029T235959
DTSTAMP:20260425T200227
CREATED:20251026T172407Z
LAST-MODIFIED:20251026T173608Z
UID:10000335-1761609600-1761782399@rihlattravelnews.com
SUMMARY:Sustainable Destinations Forum 2025
DESCRIPTION:Sustainable Destinations Forum is an influential event which promises to be a cornerstone for the sustainable tourism sector\, bringing together global leaders\, innovators\, and experts to shape the future of responsible travel. There is one ticket available: \n\n\n\nFull Forum Ticket (Day 1: Forum\, Awards Ceremony and Dinner and Day 2: Workshops) – Grants access to the Forum and the event dinner (October 28th) where you can explore key insights\, groundbreaking solutions\, best practices for a more sustainable tourism industry—and enjoy valuable networking opportunities with industry leaders and peers.
URL:https://rihlattravelnews.com/event/sustainable-destinations-forum-2025/
LOCATION:The Nexus | Expo City Dubai\, Dubai\, United Arab Emirates\, X572+4F5 - Madinat Al Mataar - Dubai South\, Dubai\, Dubai\, United Arab Emirates
CATEGORIES:Conferences,Industry
ATTACH;FMTTYPE=image/webp:https://rihlattravelnews.com/wp-content/uploads/2025/10/Nexus-Expo-city-Dubai.webp
END:VEVENT
BEGIN:VEVENT
DTSTART;TZID=Asia/Dubai:20251102T000000
DTEND;TZID=Asia/Dubai:20251103T235959
DTSTAMP:20260425T200227
CREATED:20250505T191603Z
LAST-MODIFIED:20250505T191653Z
UID:10000309-1762041600-1762214399@rihlattravelnews.com
SUMMARY:Forbes Women’s Summit – Riyadh
DESCRIPTION:Forbes Middle East is proud to present the third edition of the Women’s Summit\, set to take place in Riyadh. This groundbreaking event will unite trailblazing women\, business leaders\, entrepreneurs\, and changemakers from across the Middle East and beyond to share insights\, foster collaboration\, and drive change in key areas shaping the future of women’s leadership. The summit will explore critical themes such as leadership excellence\, financial empowerment\, and entrepreneurship\, while also diving into the rise of women in STEM\, the importance of holistic health\, and the influence of creativity in driving societal progress. Through dynamic discussions\, thought-provoking panels\, and networking opportunities\, this summit will highlight the strategies and initiatives empowering women to lead\, innovate\, and thrive. Join us for a transformative experience and be part of a movement shaping a more inclusive and empowered future.
URL:https://rihlattravelnews.com/event/womens-summit-riyadh/
CATEGORIES:Conferences,Industry
ATTACH;FMTTYPE=image/jpeg:https://rihlattravelnews.com/wp-content/uploads/2025/05/Forbes-Women-Summit-Riyadh.jpeg
END:VEVENT
BEGIN:VEVENT
DTSTART;TZID=Asia/Dubai:20251111T000000
DTEND;TZID=Asia/Dubai:20251113T235959
DTSTAMP:20260425T200227
CREATED:20251002T162146Z
LAST-MODIFIED:20251002T162149Z
UID:10000333-1762819200-1763078399@rihlattravelnews.com
SUMMARY:TOURISE 2025 - Riyadh
DESCRIPTION:TOURISE is the world’s premier platform shaping a new horizon for global tourism. Powered by the Saudi Ministry of Tourism\, the inaugural TOURISE Summit will take place 11-13\, November 2025 in Riyadh. TOURISE will convene visionaries from government\, business\, investment\, tourism and technology communities to deliver high impact initiatives and transformative deals that will reset the industry and build a tourism sector that is sustainable\, equitable\, and future-focused.  \n\n\n\nPhysically exclusive and digitally inclusive\, TOURISE will ensure broad global participation while providing targeted access to visionaries shaping the future of global tourism. Following the Summit\, TOURISE will extend as a year-round platform where bold ideas become real-world solutions.  \n\n\n\nThis is where the next 50 years of tourism are shaped. Together\, we are unstoppable.
URL:https://rihlattravelnews.com/event/tourise-2025-riyadh/
CATEGORIES:Conferences,Industry
ATTACH;FMTTYPE=image/webp:https://rihlattravelnews.com/wp-content/uploads/2025/09/Riyadh_Getty-images.webp
END:VEVENT
BEGIN:VEVENT
DTSTART;TZID=Asia/Dubai:20251111T000000
DTEND;TZID=Asia/Dubai:20251117T235959
DTSTAMP:20260425T200227
CREATED:20251026T173516Z
LAST-MODIFIED:20251026T173517Z
UID:10000337-1762819200-1763423999@rihlattravelnews.com
SUMMARY:27th ICOM General Conference 2025
DESCRIPTION:Every three years\, ICOM hosts its General Conference\, a flagship event that brings together museum professionals from around the world to engage in dialogue on the most pressing issues facing the museum sector.  \n\n\n\nICOM Dubai 2025 conference will be hybrid\, enabling global participation. \n\n\n\nVisionary speakers\, including renowned museum professionals and cultural thought leaders\, will share insights on the future of museums. Attendees will engage in expert-led masterclasses and networking opportunities\, providing a dynamic platform for collaboration and idea exchange. \n\n\n\nThe main theme chosen for the General Conference\, ‘The Future of Museums in Rapidly Changing Communities\,’ encapsulates the dynamic ever-changing landscape that communities and museums worldwide navigate through today\, with three interconnected sub-themes that will invite in-depth discussions into the safeguarding of intangible heritage\, youth power\, and the rise of new technologies.  \n\n\n\nEmbracing the rich cultural scene in Dubai and the UAE\, the conference will also offer an array of social and cultural events for an enhanced experience for all attendees.
URL:https://rihlattravelnews.com/event/27th-icom-general-conference-2025/
CATEGORIES:Conferences,Industry
ATTACH;FMTTYPE=image/jpeg:https://rihlattravelnews.com/wp-content/uploads/2025/10/ICOM-conference-Dubai.jpeg
END:VEVENT
BEGIN:VEVENT
DTSTART;TZID=Asia/Dubai:20251117T100000
DTEND;TZID=Asia/Dubai:20251121T173000
DTSTAMP:20260425T200227
CREATED:20240725T100203Z
LAST-MODIFIED:20240802T114946Z
UID:10000033-1763373600-1763746200@rihlattravelnews.com
SUMMARY:Global Air Traffic Management (GATM)\, Dubai
DESCRIPTION:Join 5 days of thought-provoking sessions and unrivaled networking opportunities at the Dubai Airshow Conferences.
URL:https://rihlattravelnews.com/event/global-air-traffic-management-gatm/
CATEGORIES:Conferences,Industry
END:VEVENT
BEGIN:VEVENT
DTSTART;TZID=Asia/Dubai:20260127T000000
DTEND;TZID=Asia/Dubai:20260128T235959
DTSTAMP:20260425T200227
CREATED:20251224T140859Z
LAST-MODIFIED:20251224T140900Z
UID:10000357-1769472000-1769644799@rihlattravelnews.com
SUMMARY:Middle East Sports Investment Forum (MESIF)
DESCRIPTION:Returning to the heart of Saudi Arabia\, MESIF Riyadh 2026 brings together top-tier sports stakeholders from around the world for a high-impact forum focused on investment opportunities\, long-term growth and transformation in the region’s sports\, entertainment and tourism sectors. \n\n\n\nHeld in partnership with the Ministry of Investment and the Ministry of Sport of Saudi Arabia\, the event will explore how the region is building a thriving and inclusive sports ecosystem. We will hear from giga projects\, governments\, sports clubs and federations on their latest investment and regional development strategies. Our discussions will focus on the future of sports technology\, infrastructure and major events in the Middle East.​ \n\n\n\nThis in-region meeting is the perfect hub for international businesses to connect with local partners and develop meaningful commercial relationships.
URL:https://rihlattravelnews.com/event/middle-east-sports-investment-forum-mesif/
CATEGORIES:Conferences,Industry
ATTACH;FMTTYPE=image/jpeg:https://rihlattravelnews.com/wp-content/uploads/2025/12/Middle-East-Sports-Investment-Forum-scaled.jpg
END:VEVENT
END:VCALENDAR