BEGIN:VCALENDAR
VERSION:2.0
PRODID:-//Rihlat Travel News - ECPv6.15.20//NONSGML v1.0//EN
CALSCALE:GREGORIAN
METHOD:PUBLISH
X-WR-CALNAME:Rihlat Travel News
X-ORIGINAL-URL:https://rihlattravelnews.com
X-WR-CALDESC:Events for Rihlat Travel News
REFRESH-INTERVAL;VALUE=DURATION:PT1H
X-Robots-Tag:noindex
X-PUBLISHED-TTL:PT1H
BEGIN:VTIMEZONE
TZID:Asia/Dubai
BEGIN:STANDARD
TZOFFSETFROM:+0400
TZOFFSETTO:+0400
TZNAME:+04
DTSTART:20240101T000000
END:STANDARD
END:VTIMEZONE
BEGIN:VEVENT
DTSTART;TZID=Asia/Dubai:20251215T000000
DTEND;TZID=Asia/Dubai:20251217T235959
DTSTAMP:20260419T181245
CREATED:20251216T191317Z
LAST-MODIFIED:20251216T191318Z
UID:10000345-1765756800-1766015999@rihlattravelnews.com
SUMMARY:Host Arabia 2025
DESCRIPTION:default\n\n\n\nHost Arabia is the definitive B2B exhibition for the hospitality\, foodservice\, and catering sectors in Saudi Arabia\, bringing together global brands\, innovative technologies\, and key decision-makers from around the world. Drawing from the proven success and reputation of Host Milano (now at its 44th edition)\, this event offers an unparalleled opportunity to connect with the dynamic\, fast-growing Saudi Arabian hospitality market. \n\n\n\nAs part of Fiera Milano’s international network\, Host Arabia is strategically positioned to leverage Saudi Arabia’s ambitious Vision 2030 plans\, which are set to transform the nation into a global leader in tourism\, hospitality\, and infrastructure. With massive investments in the tourism and hospitality industries\, the Kingdom offers exciting prospects for businesses looking to expand into the Gulf region and beyond. \n\n\n\nThis unique event not only provides an exceptional platform for global exhibitors to showcase their products\, services\, and innovations but also presents exclusively curated networking opportunities with industry leaders\, investors\, and influential buyers from across the Middle East and beyond.
URL:https://rihlattravelnews.com/event/host-arabia-2025/
CATEGORIES:Exhibition, Trade Shows & Roadshows,Industry
ATTACH;FMTTYPE=image/jpeg:https://rihlattravelnews.com/wp-content/uploads/2025/12/Host-Arabia_Riyadh.jpeg
END:VEVENT
END:VCALENDAR